BEGIN:VCALENDAR
VERSION:2.0
PRODID:-//Austin Geological Society - ECPv6.15.14//NONSGML v1.0//EN
CALSCALE:GREGORIAN
METHOD:PUBLISH
X-WR-CALNAME:Austin Geological Society
X-ORIGINAL-URL:https://www.austingeosoc.org
X-WR-CALDESC:Events for Austin Geological Society
REFRESH-INTERVAL;VALUE=DURATION:PT1H
X-Robots-Tag:noindex
X-PUBLISHED-TTL:PT1H
BEGIN:VTIMEZONE
TZID:America/Chicago
BEGIN:DAYLIGHT
TZOFFSETFROM:-0600
TZOFFSETTO:-0500
TZNAME:CDT
DTSTART:20250309T080000
END:DAYLIGHT
BEGIN:STANDARD
TZOFFSETFROM:-0500
TZOFFSETTO:-0600
TZNAME:CST
DTSTART:20251102T070000
END:STANDARD
BEGIN:DAYLIGHT
TZOFFSETFROM:-0600
TZOFFSETTO:-0500
TZNAME:CDT
DTSTART:20260308T080000
END:DAYLIGHT
BEGIN:STANDARD
TZOFFSETFROM:-0500
TZOFFSETTO:-0600
TZNAME:CST
DTSTART:20261101T070000
END:STANDARD
BEGIN:DAYLIGHT
TZOFFSETFROM:-0600
TZOFFSETTO:-0500
TZNAME:CDT
DTSTART:20270314T080000
END:DAYLIGHT
BEGIN:STANDARD
TZOFFSETFROM:-0500
TZOFFSETTO:-0600
TZNAME:CST
DTSTART:20271107T070000
END:STANDARD
END:VTIMEZONE
BEGIN:VEVENT
DTSTART;TZID=America/Chicago:20260302T183000
DTEND;TZID=America/Chicago:20260302T200000
DTSTAMP:20260420T112013
CREATED:20251127T114428Z
LAST-MODIFIED:20251202T105656Z
UID:733-1772476200-1772481600@www.austingeosoc.org
SUMMARY:Poster Session
DESCRIPTION:
URL:https://www.austingeosoc.org/event/poster-session/
END:VEVENT
BEGIN:VEVENT
DTSTART;TZID=America/Chicago:20260406T183000
DTEND;TZID=America/Chicago:20260406T200000
DTSTAMP:20260420T112013
CREATED:20251127T114702Z
LAST-MODIFIED:20260330T004235Z
UID:735-1775500200-1775505600@www.austingeosoc.org
SUMMARY:Detangling the influences of combined stressors reveals insights into plant function and improves models
DESCRIPTION:Ashley Matheny\, Ph.D.\, Associate Professor in the Department of Earth and Planetary Sciences at The University of Texas at Austin\nBio \nDr. Matheny completed her PhD in Civil Engineering at The Ohio State University in 2016 where she specialized in using custom\, hand-made sensors to measure water flow rates in the wood of mature living trees in the forest. Today\, Dr. Matheny focuses on understanding how different tree species around the world respond to stress and how those stress responses shape the water\, carbon\, and energy cycles locally and around the world. She uses her tree-water data to build physics-based numerical models of water transport within woody vegetation to improve simulations of how vegetation links the carbon and water cycles within regional and global climate models. At UT\, Matheny has developed novel monitoring systems that combine measurements of vegetation performance and meteorological conditions\, alongside new technology to monitor water content directly in trees and leaves to assess vegetation health\, drought impacts\, and forest fire risk. Her work has resulted in 44 peer-reviewed journal articles and 135 conference presentations\, an Early Career Award from the American Meteorological Society’s section on Agricultural and Forest Meteorology “for leadership and excellence in the study of vegetation hydrodynamics and its role in the surface – atmosphere exchange of water\,” and multiple funded grants through Exxon\, the US Department of Energy\, and NSF\, including a prestigious NSF CAREER award.
URL:https://www.austingeosoc.org/event/ashley-matheny-ph-d/
END:VEVENT
BEGIN:VEVENT
DTSTART;TZID=America/Chicago:20260504T183000
DTEND;TZID=America/Chicago:20260504T200000
DTSTAMP:20260420T112013
CREATED:20251127T114907Z
LAST-MODIFIED:20251202T105650Z
UID:737-1777919400-1777924800@www.austingeosoc.org
SUMMARY:John Berry & Elections
DESCRIPTION:AGS will host annual elections before technical presentation.
URL:https://www.austingeosoc.org/event/john-berry-elections/
END:VEVENT
BEGIN:VEVENT
DTSTART;TZID=America/Chicago:20260601T183000
DTEND;TZID=America/Chicago:20260601T200000
DTSTAMP:20260420T112013
CREATED:20251127T115122Z
LAST-MODIFIED:20251201T153908Z
UID:739-1780338600-1780344000@www.austingeosoc.org
SUMMARY:TBD
DESCRIPTION:
URL:https://www.austingeosoc.org/event/tbd/
END:VEVENT
END:VCALENDAR