BEGIN:VCALENDAR
VERSION:2.0
PRODID:-//Austin Geological Society - ECPv6.15.14//NONSGML v1.0//EN
CALSCALE:GREGORIAN
METHOD:PUBLISH
X-WR-CALNAME:Austin Geological Society
X-ORIGINAL-URL:https://www.austingeosoc.org
X-WR-CALDESC:Events for Austin Geological Society
REFRESH-INTERVAL;VALUE=DURATION:PT1H
X-Robots-Tag:noindex
X-PUBLISHED-TTL:PT1H
BEGIN:VTIMEZONE
TZID:America/Chicago
BEGIN:DAYLIGHT
TZOFFSETFROM:-0600
TZOFFSETTO:-0500
TZNAME:CDT
DTSTART:20240310T080000
END:DAYLIGHT
BEGIN:STANDARD
TZOFFSETFROM:-0500
TZOFFSETTO:-0600
TZNAME:CST
DTSTART:20241103T070000
END:STANDARD
BEGIN:DAYLIGHT
TZOFFSETFROM:-0600
TZOFFSETTO:-0500
TZNAME:CDT
DTSTART:20250309T080000
END:DAYLIGHT
BEGIN:STANDARD
TZOFFSETFROM:-0500
TZOFFSETTO:-0600
TZNAME:CST
DTSTART:20251102T070000
END:STANDARD
BEGIN:DAYLIGHT
TZOFFSETFROM:-0600
TZOFFSETTO:-0500
TZNAME:CDT
DTSTART:20260308T080000
END:DAYLIGHT
BEGIN:STANDARD
TZOFFSETFROM:-0500
TZOFFSETTO:-0600
TZNAME:CST
DTSTART:20261101T070000
END:STANDARD
END:VTIMEZONE
BEGIN:VEVENT
DTSTART;TZID=America/Chicago:20250825T183000
DTEND;TZID=America/Chicago:20250825T200000
DTSTAMP:20260424T030454
CREATED:20251217T234307Z
LAST-MODIFIED:20251217T234307Z
UID:888-1756146600-1756152000@www.austingeosoc.org
SUMMARY:From Hydrology to Geopolitics: The Ethical Imperative of Science Diplomacy in Ukraine’s Agricultural Crisis
DESCRIPTION:Sachin Shah\, Hydrologist\, U.S. Geological Survey\n\n\n\nBIO \nSachin Shah is a multi-disciplinary scientist and policy expert specializing in water resources\, climate adaptation\, and global food security. He currently serves as an Adjunct Assistant Professor at the University of Texas at Austin’s LBJ School of Public Affairs and Lead of the Socio-Hydrology Team at the U.S. Geological Survey. With over 20 years of experience in hydrogeology\, public policy\, and international development\, Sachin’s career began as a hydrologist with the USGS\, where he conducted extensive groundwater research across the country\, including land subsidence in the Houston region and transboundary aquifer assessments along the Texas-Mexico border. His expertise in hydrology provides the scientific foundation for his current interdisciplinary approach to global water security and climate adaptation. \nSachin works at the intersection of water security\, socioeconomics\, and climate adaptation\, focusing on understanding the human dimensions of water security and risk in regions including the Mekong River Basin\, South Asia\, and Ukraine. In 2024\, he served as a Policy Advisor at the White House Office of Science and Technology Policy\, where he developed national and international water resources strategies and led interagency task forces on water resilience. He leads international research initiatives\, including current work on climate risks and food insecurity in Ukraine\, and has established and co-led the Ukraine Climate Adaptation Technical Advisory Committee. Mr. Shah has been recognized with multiple awards for his contributions to environmental justice and water security research\, and holds an M.A. in Global Policy Studies from UT Austin’s LBJ School of Public Affairs\, an M.S. in Hydrology from Georgia State University\, and a B.S. in Hydrogeology from UT Austin’s Jackson School of Geosciences.
URL:https://www.austingeosoc.org/event/from-hydrology-to-geopolitics-the-ethical-imperative-of-science-diplomacy-in-ukraines-agricultural-crisis/
ATTACH;FMTTYPE=image/png:https://www.austingeosoc.org/wp-content/uploads/2025/11/sachinshahheadshot_25pct.png
END:VEVENT
END:VCALENDAR